BEGIN:VCALENDAR
VERSION:2.0
METHOD:PUBLISH
PRODID:-//hacksw/handcal//NONSGML v1.0//EN
BEGIN:VEVENT
DTSTAMP:20260422T030718Z
DTSTART:20181215T170000Z
DTEND:20181215T195900Z
UID:20181215T170000Z-20181215T195900Z-175@www.eldagsen.de
SUMMARY:DRIV Pokal SC Bison Calenberg Rollhockey
DESCRIPTION:DRIV Pokal 1/8 der Herren. Es spielen die Herren am 15.12.
 2018 zu Hause in Eldagsen\nund haben als Gegner aber den deutschen Mei
 ster IGR Remscheid.
X-ALT-DESC;FMTTYPE=text/html:<p>DRIV Pokal 1/8 der Herren. Es spielen 
 die Herren am 15.12.2018 zu Hause in Eldagsen<br>\nund haben als Gegne
 r aber den deutschen Meister IGR Remscheid.</p>\n
URL:https://www.eldagsen.de/events/175/driv-pokal-sc-bison-calenberg-r
 ollhockey/?lang=de
ATTACH:https://www.eldagsen.de/events/175/driv-pokal-sc-bison-calenber
 g-rollhockey/?lang=de
LOCATION:Sporthalle\, Hindenburgallee\, Springe
END:VEVENT
END:VCALENDAR
