BEGIN:VCALENDAR
VERSION:2.0
METHOD:PUBLISH
PRODID:-//hacksw/handcal//NONSGML v1.0//EN
BEGIN:VEVENT
DTSTAMP:20260421T212341Z
DTSTART:20190616T090000Z
DTEND:20190616T110000Z
UID:20190616T090000Z-20190616T110000Z-257@www.eldagsen.de
SUMMARY:Freibad Eldagsen
DESCRIPTION:Freibad Eldagsen\n\nEinweihung des Kinderschwimmbeckens mi
 t Musik
X-ALT-DESC;FMTTYPE=text/html:<p>Freibad Eldagsen</p>\n<p>Einweihung de
 s Kinderschwimmbeckens mit Musik</p>\n
URL:https://www.eldagsen.de/events/freibad-eldagsen/?lang=de
ATTACH:https://www.eldagsen.de/events/freibad-eldagsen/?lang=de
LOCATION:Freibad Eldagsen\, \,
END:VEVENT
END:VCALENDAR
