BEGIN:VCALENDAR
VERSION:2.0
METHOD:PUBLISH
PRODID:-//hacksw/handcal//NONSGML v1.0//EN
BEGIN:VEVENT
DTSTAMP:20260424T054059Z
DTSTART:20210115T163000Z
DTEND:20210115T180000Z
UID:20210115T163000Z-20210115T180000Z-341@www.eldagsen.de
SUMMARY:Web-Vortrag „Bitte ökologisch – Gebäudesanierung mit Naturbaus
 toffen“
DESCRIPTION:Nachholtermin\n\nKlimaschutz beginnt im Gebäudebereich nic
 ht erst bei der Energieeinsparung. Bereits mit der klugen Wahl der Bau
 stoffe können viele CO2-Emissionen vermieden werden. Referentin Claudi
 a Knappert vom Büro für konzeptionelle Architektur erklärt beim Online
 -Vortrag der Klimaschutzagentur in Kooperation mit proKlima - Der ener
 city-Fonds\, welche Auswahl an Naturdämmstoffen es gibt. Wann sind wel
 che ökologischen Baustoffe besonders geeignet? Die Vor- und Nachteile 
 der unterschiedlichen Materialien lernen die Teilnehmenden anhand von 
 praktischen Beispielen. Zudem erhalten sie einen Überblick über die di
 e unabhängigen Beratungsangebote in der Region Hannover sowie die Förd
 ermöglichkeiten bei der Gebäudesanierung.\n\nDer Vortrag wird kostenlo
 s über edudip angeboten. Eine Anmeldung ist erforderlich (bereits best
 ehende Anmeldungen aus dem ersten Termin können leider aus technischer
  Sicht nicht berücksichtigt werden): https://www.edudip.com/de/webinar
 /bitte-okologisch-gebaudesanierung-mit-naturbaustoffen/605516
X-ALT-DESC;FMTTYPE=text/html:<p><strong>Nachholtermin</strong><br>\n<b
 r>\nKlimaschutz beginnt im Gebäudebereich nicht erst bei der Energieei
 nsparung. Bereits mit der klugen Wahl der Baustoffe können viele CO2-E
 missionen vermieden werden. Referentin Claudia Knappert vom Büro für k
 onzeptionelle Architektur erklärt beim Online-Vortrag der Klimaschutza
 gentur in Kooperation mit proKlima &#8211\; Der enercity-Fonds\, welch
 e Auswahl an Naturdämmstoffen es gibt. Wann sind welche ökologischen B
 austoffe besonders geeignet? Die Vor- und Nachteile der unterschiedlic
 hen Materialien lernen die Teilnehmenden anhand von praktischen Beispi
 elen. Zudem erhalten sie einen Überblick über die die unabhängigen Ber
 atungsangebote in der Region Hannover sowie die Fördermöglichkeiten be
 i der Gebäudesanierung.</p>\n<p>Der Vortrag wird kostenlos über edudip
  angeboten. Eine Anmeldung ist erforderlich (bereits bestehende Anmeld
 ungen aus dem ersten Termin können leider aus technischer Sicht nicht 
 berücksichtigt werden): <a href=https://www.edudip.com/de/webinar/bitt
 e-okologisch-gebaudesanierung-mit-naturbaustoffen/605516 target=_blank
  rel=noopener>https://www.edudip.com/de/webinar/bitte-okologisch-gebau
 desanierung-mit-naturbaustoffen/605516</a></p>\n
URL:https://www.eldagsen.de/events/web-vortrag-e2-80-9ebitte-oekologis
 ch-e2-80-93-gebaeudesanierung-mit-naturbaustoffen-e2-80-9c/?lang=de
ATTACH:https://www.eldagsen.de/events/web-vortrag-e2-80-9ebitte-oekolo
 gisch-e2-80-93-gebaeudesanierung-mit-naturbaustoffen-e2-80-9c/?lang=de
LOCATION:zu Hause\, Eldagsen\, Springe
END:VEVENT
END:VCALENDAR
