BEGIN:VCALENDAR
VERSION:2.0
METHOD:PUBLISH
PRODID:-//hacksw/handcal//NONSGML v1.0//EN
BEGIN:VEVENT
DTSTAMP:20260426T000854Z
DTSTART:20210917T130000Z
DTEND:20210917T150000Z
UID:20210917T130000Z-20210917T150000Z-374@www.eldagsen.de
SUMMARY:Volleyball- Schnuppertraining für Mädchen & Jungen
DESCRIPTION:Ihr seid zwischen 8 – 11 Jahre alt und habt Lust eine neue
  Sportart auszuprobieren?\n\nDer TSV Eldagsen möchte allen motivierten
  Kindern ein kostenloses Schnuppertraining anbieten! Sport- bzw. Balle
 rfahrungen sind nicht notwendig!\n\nWir freuen uns auf Euch!\n\nBitte 
 bringt Sportklamotten\, Hallensportschuhe & Trinkwasser zum Schnuppert
 raining mit!\n\nAufgrund der Corona-Maßnahmen bitten wir darum\, Euch 
 vorab kurz per Mail oder Telefon bei unserer Jugendwartin anzumelden!\
 nJugendwartin Johanna Willmer\njugendwart@tsv-eldagsen.de\nTel.: 0160-
 3362067
X-ALT-DESC;FMTTYPE=text/html:<p>Ihr seid zwischen 8 – 11 Jahre alt und
  habt Lust eine neue Sportart auszuprobieren?</p>\n<p>Der TSV Eldagsen
  möchte allen motivierten Kindern ein kostenloses Schnuppertraining an
 bieten! Sport- bzw. Ballerfahrungen sind nicht notwendig!</p>\n<p><str
 ong>Wir freuen uns auf Euch!</strong><br>\n<br>\nBitte bringt Sportkla
 motten\, Hallensportschuhe &amp\; Trinkwasser zum Schnuppertraining mi
 t!</p>\n<p>Aufgrund der Corona-Maßnahmen bitten wir darum\, Euch vorab
  kurz per Mail oder Telefon bei unserer Jugendwartin anzumelden!<br>\n
 Jugendwartin Johanna Willmer<br>\njugendwart@tsv-eldagsen.de<br>\nTel.
 : 0160-3362067</p>\n
URL:https://www.eldagsen.de/events/volleyball-schnuppertraining-fuer-m
 aedchen-jungen/?lang=de
ATTACH:https://www.eldagsen.de/events/volleyball-schnuppertraining-fue
 r-maedchen-jungen/?lang=de
LOCATION:Sporthalle\, Hindenburgallee\, Springe
END:VEVENT
END:VCALENDAR
