BEGIN:VCALENDAR
VERSION:2.0
METHOD:PUBLISH
PRODID:-//hacksw/handcal//NONSGML v1.0//EN
BEGIN:VEVENT
DTSTAMP:20260424T124124Z
DTSTART:20220522T080000Z
DTEND:20220522T093000Z
UID:20220522T080000Z-20220522T093000Z-397@www.eldagsen.de
SUMMARY:Konfirmation Eldagsen
DESCRIPTION:Konfirmation in Eldagsen St. Alexandri Kirche
X-ALT-DESC;FMTTYPE=text/html:<p>Konfirmation in Eldagsen St. Alexandri
  Kirche</p>\n
URL:https://www.eldagsen.de/events/konfirmation-eldagsen/?lang=de
ATTACH:https://www.eldagsen.de/events/konfirmation-eldagsen/?lang=de
LOCATION:ev.-luth. St. Alexandri Kirche\, Marktplatz 1\, Springe
END:VEVENT
END:VCALENDAR
