BEGIN:VCALENDAR
VERSION:2.0
METHOD:PUBLISH
PRODID:-//hacksw/handcal//NONSGML v1.0//EN
BEGIN:VEVENT
DTSTAMP:20260423T152506Z
DTSTART:20220702T160000Z
DTEND:20220702T213000Z
UID:20220702T160000Z-20220702T213000Z-435@www.eldagsen.de
SUMMARY:Cocktail Nights Little Beach
DESCRIPTION:Eintritt frei
X-ALT-DESC;FMTTYPE=text/html:<p>Eintritt frei</p>\n
URL:https://www.eldagsen.de/events/cocktail-nights-little-beach/?lang=
 de
ATTACH:https://www.eldagsen.de/events/cocktail-nights-little-beach/?la
 ng=de
LOCATION:Freibad Eldagsen\, \,
END:VEVENT
END:VCALENDAR
