BEGIN:VCALENDAR
VERSION:2.0
METHOD:PUBLISH
PRODID:-//hacksw/handcal//NONSGML v1.0//EN
BEGIN:VEVENT
DTSTAMP:20260424T160034Z
DTSTART:20221022T053000Z
DTEND:20221022T173000Z
UID:20221022T053000Z-20221022T173000Z-457@www.eldagsen.de
SUMMARY:Bürgerverein Rundfahrt durchs Eichsfeld
DESCRIPTION:Rundfahrt durch Eichsfeld\nab Rhumspringe fährt das Ehepaa
 r Löffler -Reiseleiter- mit uns durch das Ober- und Untereichsfeld u.a
 . Rhumequelle\, Duderstadt mit Stadtführung\, Grenzlandmuseum Teistung
 en. Wir haben Gelegenheit „Eichsfelder Spezialitäten“ zu probieren.\nR
 ückkehr 19.30 Uhr\nKosten 40\,00 €\n\nBei allen Veranstaltungen sind G
 äste herzlich willkommen.\nGäste zahlen einen zusätzlichen Obolus von 
 4\,00 € pro Person/pro Veranstaltung.\n\nAnmeldung bei:\nAnita Opperma
 nn\, Lange Straße 12\, 31832 Stadt Eldagsen\n05044/8371 oder WhatsApp 
 0151 17553969\nIngrid Hochheimer-Kewel\, Flentjenburg\, 31832 Stadt El
 dagsen\n05044/881064
X-ALT-DESC;FMTTYPE=text/html:<p><strong>Rundfahrt durch Eichsfeld</str
 ong><br>\nab Rhumspringe fährt das Ehepaar Löffler -Reiseleiter- mit u
 ns durch das Ober- und Untereichsfeld u.a. Rhumequelle\, Duderstadt mi
 t Stadtführung\, Grenzlandmuseum Teistungen. Wir haben Gelegenheit „Ei
 chsfelder Spezialitäten“ zu probieren.<br>\nRückkehr 19.30 Uhr<br>\nKo
 sten 40\,00 €</p>\n<p>Bei allen Veranstaltungen sind Gäste herzlich wi
 llkommen.<br>\nGäste zahlen einen zusätzlichen Obolus von 4\,00 € pro 
 Person/pro Veranstaltung.</p>\n<p>Anmeldung bei:<br>\nAnita Oppermann\
 , Lange Straße 12\, 31832 Stadt Eldagsen<br>\n05044/8371 oder WhatsApp
  0151 17553969<br>\nIngrid Hochheimer-Kewel\, Flentjenburg\, 31832 Sta
 dt Eldagsen<br>\n05044/881064</p>\n
URL:https://www.eldagsen.de/events/buergerverein-rundfahrt-durchs-eich
 sfeld/?lang=de
ATTACH:https://www.eldagsen.de/events/buergerverein-rundfahrt-durchs-e
 ichsfeld/?lang=de
LOCATION:Abfahrt Wallstraße\, Wallstraße\, Springe
END:VEVENT
END:VCALENDAR
