BEGIN:VCALENDAR
VERSION:2.0
METHOD:PUBLISH
PRODID:-//hacksw/handcal//NONSGML v1.0//EN
BEGIN:VEVENT
DTSTAMP:20260424T043511Z
DTSTART:20230208T190000Z
DTEND:20230208T200000Z
UID:20230208T190000Z-20230208T200000Z-508@www.eldagsen.de
SUMMARY:JHV Wallstraßenhöfe
DESCRIPTION:E I N L A D U N G \n\nzu der am Mittwoch\, 08. Februar 202
 3 in Eldagsen\, Lange Straße 96\, im Hotel Berggarten um 20:00 Uhr sta
 ttfindenden Jahreshauptversammlung 2023 des Wallstraßenhöfe Eldagsen e
 .V.\n\nTagesordnung:\n\n 	Begrüßung und Feststellen der Stimmberechtig
 ten\n 	Rechenschaftsberichte\n\n 	1. Vorsitzender\n 	Kassenwart\n\n\n 
 	      a.   Bericht der Kassenprüfer\n 	Beschlussfassung über die Entl
 astung\n\n\n 	Wahl des Vorstandes\n 	Haushaltentwurf 2023\n 	Bestimmun
 g der Beiträge für das kommende Geschäftsjahr\n 	Besondere Anträge\n 	
 Verschiedenes\n\nBesondere Anträge sind bis eine Woche vor der Mitglie
 derversammlung beim Vereinsvorstand schriftlich einzureichen.\n\nFür z
 ahlreiche Teilnahme und pünktliches Erscheinen dankt der Vorstand im V
 oraus.
X-ALT-DESC;FMTTYPE=text/html:<p><strong><u>E I N L A D U N G</u></stro
 ng><strong> </strong><br>\n<br>\nzu der am Mittwoch\, 08. Februar 2023
  in Eldagsen\, Lange Straße 96\, im Hotel Berggarten um 20:00 Uhr stat
 tfindenden Jahreshauptversammlung 2023 des Wallstraßenhöfe Eldagsen e.
 V.</p>\n<p><strong><u>Tagesordnung:</u></strong></p>\n<ol>\n<li>Begrüß
 ung und Feststellen der Stimmberechtigten</li>\n<li>Rechenschaftsberic
 hte\n<ol>\n<li>1. Vorsitzender</li>\n<li>Kassenwart</li>\n</ol>\n</li>
 \n<li>      a.   Bericht der Kassenprüfer</li>\n<li>Beschlussfassung ü
 ber die Entlastung</li>\n</ol>\n<ol>\n<li>Wahl des Vorstandes</li>\n<l
 i>Haushaltentwurf 2023</li>\n<li>Bestimmung der Beiträge für das komme
 nde Geschäftsjahr</li>\n<li>Besondere Anträge</li>\n<li>Verschiedenes<
 /li>\n</ol>\n<p>Besondere Anträge sind bis eine Woche vor der Mitglied
 erversammlung beim Vereinsvorstand schriftlich einzureichen.</p>\n<p>F
 ür zahlreiche Teilnahme und pünktliches Erscheinen dankt der Vorstand 
 im Voraus.</p>\n
URL:https://www.eldagsen.de/events/jhv-wallstrassenhoefe-2/?lang=de
ATTACH:https://www.eldagsen.de/events/jhv-wallstrassenhoefe-2/?lang=de
LOCATION:Hotel Restaurant Berggarten\, Lange Straße 96\, Springe
END:VEVENT
END:VCALENDAR
