BEGIN:VCALENDAR
VERSION:2.0
METHOD:PUBLISH
PRODID:-//hacksw/handcal//NONSGML v1.0//EN
BEGIN:VEVENT
DTSTAMP:20260421T053318Z
DTSTART:20230518T090000Z
DTEND:20230518T200000Z
UID:20230518T090000Z-20230518T200000Z-525@www.eldagsen.de
SUMMARY:Rock´n Roll Frühschoppen am Vatertag
DESCRIPTION:Vatertag in Holtensen/ Eldagsen
X-ALT-DESC;FMTTYPE=text/html:<p>Vatertag in Holtensen/ Eldagsen</p>\n
URL:https://www.eldagsen.de/events/rock-c2-b4n-roll-fruehschoppen-am-v
 atertag/?lang=de
ATTACH:https://www.eldagsen.de/events/rock-c2-b4n-roll-fruehschoppen-a
 m-vatertag/?lang=de
LOCATION:Alte Schule\, Am Wischkamp 2\, Springe
END:VEVENT
END:VCALENDAR
