BEGIN:VCALENDAR
VERSION:2.0
METHOD:PUBLISH
PRODID:-//hacksw/handcal//NONSGML v1.0//EN
BEGIN:VEVENT
DTSTAMP:20260424T034531Z
DTSTART:20230827T080000Z
DTEND:20230827T160000Z
UID:20230827T080000Z-20230827T160000Z-535@www.eldagsen.de
SUMMARY:Abgesagt!!! Fahrt in die Heide
DESCRIPTION:Leider kann die Fahrt aus Krankheitsgründen und mangelnder
  Teilnehmer nicht stattfinden.\n\nWandergruppe:\nWir wandern über den 
 Wilseder Berg bis nach Wilsede und machen hier eine kleine Pause. Weit
 er geht es durch die wunderschöne Heide zurück zum Bus.\n\nWanderstrec
 ke ca. 11 km\n\nGruppe 2:\nBesichtigung des Spielmuseums in Soltau und
  anschließend geht es nach Wolterdingen. Geplant ist hier ein Treffen 
 mit Pastor Schoppe.\n\nBeide Gruppen treffen sich hier zu Kaffee und K
 uchen und interessanten Gesprächen. Anschließend Rückfahrt nach Eldags
 en.\n\nAnmeldungen bis 19.08.2023 bei:\nGerd Schwarz\nTel.: 05044-9820
 0\nMobil oder WhatsApp: 0160-7240044\n\nMin. Personenzahl: 30\n\nAbfah
 rt: 10.00 Uhr\nWallstraße\n\nPreis: 35 Euro\ninkl. Fahrt
X-ALT-DESC;FMTTYPE=text/html:<p>Leider kann die Fahrt aus Krankheitsgr
 ünden und mangelnder Teilnehmer nicht stattfinden.</p>\n<p>Wandergrupp
 e:<br>\nWir wandern über den Wilseder Berg bis nach Wilsede und machen
  hier eine kleine Pause. Weiter geht es durch die wunderschöne Heide z
 urück zum Bus.</p>\n<p>Wanderstrecke ca. 11 km</p>\n<p>Gruppe 2:<br>\n
 Besichtigung des Spielmuseums in Soltau und anschließend geht es nach 
 Wolterdingen. Geplant ist hier ein Treffen mit Pastor Schoppe.</p>\n<p
 >Beide Gruppen treffen sich hier zu Kaffee und Kuchen und interessante
 n Gesprächen. Anschließend Rückfahrt nach Eldagsen.</p>\n<p><strong>An
 meldungen bis 19.08.2023 bei:</strong><br>\nGerd Schwarz<br>\nTel.: 05
 044-98200<br>\nMobil oder WhatsApp: 0160-7240044</p>\n<p>Min. Personen
 zahl: 30</p>\n<p>Abfahrt: 10.00 Uhr<br>\nWallstraße</p>\n<p>Preis: 35 
 Euro<br>\ninkl. Fahrt</p>\n
URL:https://www.eldagsen.de/events/fahrt-in-die-heide/?lang=de
ATTACH:https://www.eldagsen.de/events/fahrt-in-die-heide/?lang=de
LOCATION:Abfahrt Wallstraße\, Wallstraße\, Springe
END:VEVENT
END:VCALENDAR
