BEGIN:VCALENDAR
VERSION:2.0
METHOD:PUBLISH
PRODID:-//hacksw/handcal//NONSGML v1.0//EN
BEGIN:VEVENT
DTSTAMP:20260422T072922Z
DTSTART:20230625T070000Z
DTEND:20230626T070000Z
UID:20230625T070000Z-20230626T070000Z-539@www.eldagsen.de
SUMMARY:Städtisches Freischießen
DESCRIPTION:...weitere Informationen...
X-ALT-DESC;FMTTYPE=text/html:<p>&#8230\;<a href=https://www.eldagsen.d
 e/freischiessen-2023/>weitere Informationen</a>&#8230\;</p>\n
URL:https://www.eldagsen.de/events/staedtisches-freischiessen-3/?lang=
 de
ATTACH:https://www.eldagsen.de/events/staedtisches-freischiessen-3/?la
 ng=de
LOCATION:Schützenplatz\, Springer Straße 1\, Springe
END:VEVENT
END:VCALENDAR
