BEGIN:VCALENDAR
VERSION:2.0
METHOD:PUBLISH
PRODID:-//hacksw/handcal//NONSGML v1.0//EN
BEGIN:VEVENT
DTSTAMP:20260424T204913Z
DTSTART:20251107T170000Z
DTEND:20251107T210000Z
UID:20251107T170000Z-20251107T210000Z-678@www.eldagsen.de
SUMMARY:Late-Night-Shopping
DESCRIPTION:Einkaufen in lockerer Umgebung bei allen mitmachenden Gesc
 häften.
X-ALT-DESC;FMTTYPE=text/html:<p>Einkaufen in lockerer Umgebung bei all
 en mitmachenden Geschäften.</p>\n
URL:https://www.eldagsen.de/events/late-night-shopping-3/?lang=de
ATTACH:https://www.eldagsen.de/events/late-night-shopping-3/?lang=de
LOCATION:Eldagsen\, Lange Straße\, Springe
END:VEVENT
END:VCALENDAR
