BEGIN:VCALENDAR
VERSION:2.0
METHOD:PUBLISH
PRODID:-//hacksw/handcal//NONSGML v1.0//EN
BEGIN:VEVENT
DTSTAMP:20260421T230818Z
DTSTART:20250402T173000Z
DTEND:20250402T190000Z
UID:20250402T173000Z-20250402T190000Z-697@www.eldagsen.de
SUMMARY:Bürgerverein: Klönschnack
DESCRIPTION:Klönschnack-Abend\nEine „virtuelle“ Wanderung zum weißen S
 tein. (Videovortrag)\nanschließend gemütliches Beisammensein
X-ALT-DESC;FMTTYPE=text/html:<h3>Klönschnack-Abend</h3>\n<p>Eine „virt
 uelle“ Wanderung zum weißen Stein. (Videovortrag)<br>\nanschließend ge
 mütliches Beisammensein</p>\n
URL:https://www.eldagsen.de/events/buergerverein-kloenschnack/?lang=de
ATTACH:https://www.eldagsen.de/events/buergerverein-kloenschnack/?lang
 =de
LOCATION:Schützenhaus Eldagsen\, Schützenstraße 15\, Springe
END:VEVENT
END:VCALENDAR
